BEGIN:VCALENDAR
VERSION:2.0
PRODID:-//Sabre//Sabre VObject 4.1.6//EN
CALSCALE:GREGORIAN
BEGIN:VEVENT
UID:sabre-vobject-e612e9e4-322b-4f68-b297-b30cf6ce831d
DTSTAMP:20181222T024136Z
SUMMARY:2019 National Yearling Sale\, Christchurch
METHOD:PUBLISH
LOCATION:19 & 20 February at Canterbury Agricultural Park
DTSTART;TZID=Pacific/Auckland:20190219T000000
DTEND;TZID=Pacific/Auckland:20190220T000000
CLASS:PUBLIC
END:VEVENT
END:VCALENDAR
